BEGIN:VCALENDAR
VERSION:2.0
PRODID:-//De l&#039;envie au projet - ECPv6.15.13//NONSGML v1.0//EN
CALSCALE:GREGORIAN
METHOD:PUBLISH
X-WR-CALNAME:De l&#039;envie au projet
X-ORIGINAL-URL:https://envieauprojet.fr
X-WR-CALDESC:Évènements pour De l&#039;envie au projet
REFRESH-INTERVAL;VALUE=DURATION:PT1H
X-Robots-Tag:noindex
X-PUBLISHED-TTL:PT1H
BEGIN:VTIMEZONE
TZID:UTC
BEGIN:STANDARD
TZOFFSETFROM:+0000
TZOFFSETTO:+0000
TZNAME:UTC
DTSTART:20240101T000000
END:STANDARD
END:VTIMEZONE
BEGIN:VEVENT
DTSTART;TZID=UTC:20250324T140000
DTEND;TZID=UTC:20250324T160000
DTSTAMP:20260422T023351
CREATED:20250218T141814Z
LAST-MODIFIED:20251014T092430Z
UID:10000170-1742824800-1742832000@envieauprojet.fr
SUMMARY:Ouvrir un ERP - Etablissement Recevant du Public
DESCRIPTION:Vous avez ou vous allez ouvrir un local pour vendre vos produits ou animer un atelier… \nCe local sera considéré comme un E.R.P – Etablissement Recevant du Public. \nQuelle régles devez-vous respecter ? Quelles démarches effectuer en fonction du type de local ? \nL’atelier sera animé par Laure Degeorges\, conseillère France Renov à A Petits PAS et architecte et Jean-Bernard Becquart\, accompagnateur couveuse. \nPour vous inscrire: jean-bernard.b@apetitspas.net \nL’atelier est ouvert à tous (porteurs de projets ou structures). \nL’atelier est gratuit. \nPour nous soutenir dans notre action\, vous pouvez souscrire une adhésion à l’association A Petits PAS \nAdhérez et soutenez-nous ! \nInscription : jean-bernard.b@apetitspas.net \nTel / 03 21 41 70 07
URL:https://envieauprojet.fr/event/ouvrir-un-erp-etablissement-recevant-du-public/
LOCATION:VISIO
CATEGORIES:Formations
END:VEVENT
END:VCALENDAR