BEGIN:VCALENDAR
VERSION:2.0
PRODID:-//De l&#039;envie au projet - ECPv6.15.13//NONSGML v1.0//EN
CALSCALE:GREGORIAN
METHOD:PUBLISH
X-ORIGINAL-URL:https://envieauprojet.fr
X-WR-CALDESC:Évènements pour De l&#039;envie au projet
REFRESH-INTERVAL;VALUE=DURATION:PT1H
X-Robots-Tag:noindex
X-PUBLISHED-TTL:PT1H
BEGIN:VTIMEZONE
TZID:UTC
BEGIN:STANDARD
TZOFFSETFROM:+0000
TZOFFSETTO:+0000
TZNAME:UTC
DTSTART:20240101T000000
END:STANDARD
END:VTIMEZONE
BEGIN:VEVENT
DTSTART;TZID=UTC:20250513T080000
DTEND;TZID=UTC:20250513T120000
DTSTAMP:20260421T153539
CREATED:20250210T095604Z
LAST-MODIFIED:20251014T092321Z
UID:10000150-1747123200-1747137600@envieauprojet.fr
SUMMARY:Café de l'émergence CA62
DESCRIPTION:
URL:https://envieauprojet.fr/event/cafe-de-lemergence-ca62-2/
CATEGORIES:Accueil agricole
END:VEVENT
BEGIN:VEVENT
DTSTART;TZID=UTC:20250513T120000
DTEND;TZID=UTC:20250513T133000
DTSTAMP:20260421T153539
CREATED:20250307T164752Z
LAST-MODIFIED:20251014T092201Z
UID:10000181-1747137600-1747143000@envieauprojet.fr
SUMMARY:Réaliser un investissement en couveuse
DESCRIPTION:Comprendre la gestion des investissements en couveuse et le fonctionnement des amortissements ainsi que le rachat en sortie de couveuse. \nPrix : L’adhésion de 30 euros pour l’année vous permet d’accéder à toutes les formations proposées par A Petits PAS \nInfos et inscriptions : Marc Fertin\, marc.f@apetitspas.net\, 03 27 67 32 89
URL:https://envieauprojet.fr/event/realiser-un-investissement-en-couveuse/
LOCATION:VISIO
CATEGORIES:Formations
ATTACH;FMTTYPE=image/jpeg:https://envieauprojet.fr/wp-content/uploads/2025/03/ai-generated-9231987_1280.jpg
END:VEVENT
END:VCALENDAR