BEGIN:VCALENDAR
VERSION:2.0
PRODID:-//De l&#039;envie au projet - ECPv6.15.13//NONSGML v1.0//EN
CALSCALE:GREGORIAN
METHOD:PUBLISH
X-WR-CALNAME:De l&#039;envie au projet
X-ORIGINAL-URL:https://envieauprojet.fr
X-WR-CALDESC:Évènements pour De l&#039;envie au projet
REFRESH-INTERVAL;VALUE=DURATION:PT1H
X-Robots-Tag:noindex
X-PUBLISHED-TTL:PT1H
BEGIN:VTIMEZONE
TZID:UTC
BEGIN:STANDARD
TZOFFSETFROM:+0000
TZOFFSETTO:+0000
TZNAME:UTC
DTSTART:20240101T000000
END:STANDARD
END:VTIMEZONE
BEGIN:VTIMEZONE
TZID:Europe/Helsinki
BEGIN:DAYLIGHT
TZOFFSETFROM:+0200
TZOFFSETTO:+0300
TZNAME:EEST
DTSTART:20240331T010000
END:DAYLIGHT
BEGIN:STANDARD
TZOFFSETFROM:+0300
TZOFFSETTO:+0200
TZNAME:EET
DTSTART:20241027T010000
END:STANDARD
BEGIN:DAYLIGHT
TZOFFSETFROM:+0200
TZOFFSETTO:+0300
TZNAME:EEST
DTSTART:20250330T010000
END:DAYLIGHT
BEGIN:STANDARD
TZOFFSETFROM:+0300
TZOFFSETTO:+0200
TZNAME:EET
DTSTART:20251026T010000
END:STANDARD
BEGIN:DAYLIGHT
TZOFFSETFROM:+0200
TZOFFSETTO:+0300
TZNAME:EEST
DTSTART:20260329T010000
END:DAYLIGHT
BEGIN:STANDARD
TZOFFSETFROM:+0300
TZOFFSETTO:+0200
TZNAME:EET
DTSTART:20261025T010000
END:STANDARD
END:VTIMEZONE
BEGIN:VEVENT
DTSTART;TZID=UTC:20251113T093000
DTEND;TZID=UTC:20251113T123000
DTSTAMP:20260421T074950
CREATED:20250812T082103Z
LAST-MODIFIED:20251027T121250Z
UID:10000207-1763026200-1763037000@envieauprojet.fr
SUMMARY:Recherche de financements
DESCRIPTION:J’ai besoin de trouver des financements pour mon projet : comment faire ?\nAu programme de la formation :\n– Qu’est ce que je finance ?\n– Les investissements\, la trésorerie… quelques repères pour s’y retrouver\n– Paysage générale des financements possibles pour mon projet\n– Les attentes\, exigences et critères du secteur bancaire.\n– Les financeurs solidaires : un levier de développement et moyen de faire\nréseaux autour de mon projet !\n– Focus sur les CIGALES\, le crowdfunding\, les structures de la finance solidaire. \n  \nPrix : L’adhésion de 30 euros pour l’année vous permet d’accéder à toutes les formations proposées par A Petits PAS \n  \nInfos et inscriptions auprès de Marc FERTIN : marc.f@apetitspas.net / 03 27 67 32 89
URL:https://envieauprojet.fr/event/recherche-de-financements/
LOCATION:VISIO
CATEGORIES:Comptabiltié - gestion,Formations
ATTACH;FMTTYPE=image/jpeg:https://envieauprojet.fr/wp-content/uploads/2025/02/piggy-bank-1510525_1280.jpg
END:VEVENT
BEGIN:VEVENT
DTSTART;TZID=Europe/Helsinki:20251113T140000
DTEND;TZID=Europe/Helsinki:20251113T160000
DTSTAMP:20260421T074950
CREATED:20251110T111542Z
LAST-MODIFIED:20251110T112045Z
UID:10000252-1763042400-1763049600@envieauprojet.fr
SUMMARY:Réunion Premier Accueil - présentation d'Accueil Paysan HdF
DESCRIPTION:Accueil Paysan est un réseau d’éducation populaire rassemblant des hommes et des femmes qui pratiquent l’accueil à la ferme et en milieu rural. Ensemble\, ils s’engagent en faveur d’une agriculture paysanne et d’un tourisme durable\, équitable et solidaire. \nAfin de faire connaissance avec des porteurs de projet et de présenter les actions mises en place par Accueil Paysan\, une réunion « Premier Accueil – Pas à Pas » est programmée en visio-conférence. \nCette réunion d’accueil fait partie intégrante de notre démarche de labellisation. Elle permettra de poser toutes les questions que les porteurs de projet ont sur notre réseau. \nAprès un tour de table rapide : Qui êtes-vous ? Sur quel territoire habitez-vous ? Quel est votre projet d’accueil ? Comment avez-vous entendu parler d’Accueil Paysan ? nous détaillerons la charte d’Accueil Paysan et nos actions : \n\nHébergements\nAccueil d’enfants\nAccueil Social\nProduits et repas\nActivités et animations\nAccueil d’artistes\n\nInscription nécessaire :  hautsdefrance@accueil-paysan.com
URL:https://envieauprojet.fr/event/reunion-premier-accueil-presentation-daccueil-paysan-hdf/
LOCATION:VISIO
CATEGORIES:Premiers accueils
ORGANIZER;CN="Accueil Paysan":MAILTO:hautsdefrance@accueil-paysan.com
END:VEVENT
END:VCALENDAR