BEGIN:VCALENDAR
VERSION:2.0
PRODID:-//De l&#039;envie au projet - ECPv6.15.13//NONSGML v1.0//EN
CALSCALE:GREGORIAN
METHOD:PUBLISH
X-WR-CALNAME:De l&#039;envie au projet
X-ORIGINAL-URL:https://envieauprojet.fr
X-WR-CALDESC:Évènements pour De l&#039;envie au projet
REFRESH-INTERVAL;VALUE=DURATION:PT1H
X-Robots-Tag:noindex
X-PUBLISHED-TTL:PT1H
BEGIN:VTIMEZONE
TZID:UTC
BEGIN:STANDARD
TZOFFSETFROM:+0000
TZOFFSETTO:+0000
TZNAME:UTC
DTSTART:20240101T000000
END:STANDARD
END:VTIMEZONE
BEGIN:VTIMEZONE
TZID:Europe/Helsinki
BEGIN:DAYLIGHT
TZOFFSETFROM:+0200
TZOFFSETTO:+0300
TZNAME:EEST
DTSTART:20240331T010000
END:DAYLIGHT
BEGIN:STANDARD
TZOFFSETFROM:+0300
TZOFFSETTO:+0200
TZNAME:EET
DTSTART:20241027T010000
END:STANDARD
BEGIN:DAYLIGHT
TZOFFSETFROM:+0200
TZOFFSETTO:+0300
TZNAME:EEST
DTSTART:20250330T010000
END:DAYLIGHT
BEGIN:STANDARD
TZOFFSETFROM:+0300
TZOFFSETTO:+0200
TZNAME:EET
DTSTART:20251026T010000
END:STANDARD
BEGIN:DAYLIGHT
TZOFFSETFROM:+0200
TZOFFSETTO:+0300
TZNAME:EEST
DTSTART:20260329T010000
END:DAYLIGHT
BEGIN:STANDARD
TZOFFSETFROM:+0300
TZOFFSETTO:+0200
TZNAME:EET
DTSTART:20261025T010000
END:STANDARD
END:VTIMEZONE
BEGIN:VEVENT
DTSTART;TZID=UTC:20251118T080000
DTEND;TZID=UTC:20251118T170000
DTSTAMP:20260421T075555
CREATED:20250210T100002Z
LAST-MODIFIED:20251027T121235Z
UID:10000154-1763452800-1763485200@envieauprojet.fr
SUMMARY:Café de l'émergence IP59
DESCRIPTION:
URL:https://envieauprojet.fr/event/cafe-de-lemergence-ip59-2/
CATEGORIES:Accompagnement,Accueil agricole
END:VEVENT
BEGIN:VEVENT
DTSTART;TZID=UTC:20251118T093000
DTEND;TZID=UTC:20251118T123000
DTSTAMP:20260421T075555
CREATED:20250812T083741Z
LAST-MODIFIED:20251027T121222Z
UID:10000213-1763458200-1763469000@envieauprojet.fr
SUMMARY:Préparer sa sortie de couveuse : connaitre les démarches administratives
DESCRIPTION:Objectifs de l’atelier :\n– Préparer sa sortie de couveuse vers une immatriculation d’entreprise ou un retour à l’emploi\,\n– Identifier toutes les démarches à effectuer au moment de la sortie.\n– Définir un calendrier de démarches\,\n– Ne rien oublier…et avoir l’esprit tranquille ! \nInfos et inscriptions auprès de Marc FERTIN : marc.f@apetitspas.net\nPrix : une adhésion 30 euros pour l’année vous permet de suivre toutes les formations proposées par A petits PAS
URL:https://envieauprojet.fr/event/preparer-sa-sortie-de-couveuse-connaitre-les-demarches-administratives-2/
LOCATION:VISIO
CATEGORIES:Formations,Juridique et fiscal
END:VEVENT
BEGIN:VEVENT
DTSTART;TZID=Europe/Helsinki:20251118T100000
DTEND;TZID=Europe/Helsinki:20251118T120000
DTSTAMP:20260421T075555
CREATED:20251110T112010Z
LAST-MODIFIED:20251110T112010Z
UID:10000253-1763460000-1763467200@envieauprojet.fr
SUMMARY:Réunion Premier Accueil - présentation d'Accueil Paysan HdF
DESCRIPTION:Accueil Paysan est un réseau d’éducation populaire rassemblant des hommes et des femmes qui pratiquent l’accueil à la ferme et en milieu rural. Ensemble\, ils s’engagent en faveur d’une agriculture paysanne et d’un tourisme durable\, équitable et solidaire. \nAfin de faire connaissance avec des porteurs de projet et de présenter les actions mises en place par Accueil Paysan\, une réunion « Premier Accueil – Pas à Pas » est programmée en visio-conférence. \nCette réunion d’accueil fait partie intégrante de notre démarche de labellisation. Elle permettra de poser toutes les questions que les porteurs de projet ont sur notre réseau. \nAprès un tour de table rapide : Qui êtes-vous ? Sur quel territoire habitez-vous ? Quel est votre projet d’accueil ? Comment avez-vous entendu parler d’Accueil Paysan ? nous détaillerons la charte d’Accueil Paysan et nos actions : \n\nHébergements\nAccueil d’enfants\nAccueil Social\nProduits et repas\nActivités et animations\nAccueil d’artistes\n\nInscription nécessaire :  hautsdefrance@accueil-paysan.com
URL:https://envieauprojet.fr/event/reunion-premier-accueil-presentation-daccueil-paysan-hdf-2/
LOCATION:VISIO
CATEGORIES:Premiers accueils
ORGANIZER;CN="Accueil Paysan":MAILTO:hautsdefrance@accueil-paysan.com
END:VEVENT
END:VCALENDAR