BEGIN:VCALENDAR
VERSION:2.0
PRODID:-//De l&#039;envie au projet - ECPv6.15.13//NONSGML v1.0//EN
CALSCALE:GREGORIAN
METHOD:PUBLISH
X-ORIGINAL-URL:https://envieauprojet.fr
X-WR-CALDESC:Évènements pour De l&#039;envie au projet
REFRESH-INTERVAL;VALUE=DURATION:PT1H
X-Robots-Tag:noindex
X-PUBLISHED-TTL:PT1H
BEGIN:VTIMEZONE
TZID:Europe/Helsinki
BEGIN:DAYLIGHT
TZOFFSETFROM:+0200
TZOFFSETTO:+0300
TZNAME:EEST
DTSTART:20250330T010000
END:DAYLIGHT
BEGIN:STANDARD
TZOFFSETFROM:+0300
TZOFFSETTO:+0200
TZNAME:EET
DTSTART:20251026T010000
END:STANDARD
BEGIN:DAYLIGHT
TZOFFSETFROM:+0200
TZOFFSETTO:+0300
TZNAME:EEST
DTSTART:20260329T010000
END:DAYLIGHT
BEGIN:STANDARD
TZOFFSETFROM:+0300
TZOFFSETTO:+0200
TZNAME:EET
DTSTART:20261025T010000
END:STANDARD
BEGIN:DAYLIGHT
TZOFFSETFROM:+0200
TZOFFSETTO:+0300
TZNAME:EEST
DTSTART:20270328T010000
END:DAYLIGHT
BEGIN:STANDARD
TZOFFSETFROM:+0300
TZOFFSETTO:+0200
TZNAME:EET
DTSTART:20271031T010000
END:STANDARD
END:VTIMEZONE
BEGIN:VTIMEZONE
TZID:Europe/Paris
BEGIN:DAYLIGHT
TZOFFSETFROM:+0100
TZOFFSETTO:+0200
TZNAME:CEST
DTSTART:20250330T010000
END:DAYLIGHT
BEGIN:STANDARD
TZOFFSETFROM:+0200
TZOFFSETTO:+0100
TZNAME:CET
DTSTART:20251026T010000
END:STANDARD
BEGIN:DAYLIGHT
TZOFFSETFROM:+0100
TZOFFSETTO:+0200
TZNAME:CEST
DTSTART:20260329T010000
END:DAYLIGHT
BEGIN:STANDARD
TZOFFSETFROM:+0200
TZOFFSETTO:+0100
TZNAME:CET
DTSTART:20261025T010000
END:STANDARD
BEGIN:DAYLIGHT
TZOFFSETFROM:+0100
TZOFFSETTO:+0200
TZNAME:CEST
DTSTART:20270328T010000
END:DAYLIGHT
BEGIN:STANDARD
TZOFFSETFROM:+0200
TZOFFSETTO:+0100
TZNAME:CET
DTSTART:20271031T010000
END:STANDARD
END:VTIMEZONE
BEGIN:VEVENT
DTSTART;VALUE=DATE:20260205
DTEND;VALUE=DATE:20260206
DTSTAMP:20260421T032958
CREATED:20251223T114830Z
LAST-MODIFIED:20251223T120055Z
UID:10000271-1770249600-1770335999@envieauprojet.fr
SUMMARY:Assemblée générale d'Accueil paysan Hauts de France
DESCRIPTION:Horaires à venir ! \nDu covoiturage pourra être mis en place. Nous vous y attendons nombreux ! \n\nInfos : Natacha\n\n\n\n\nAccueil Paysan Hauts-de-France\n06.52.13.54.10
URL:https://envieauprojet.fr/event/assemblee-generale-daccueil-paysan-hauts-de-france/
LOCATION:Ferme au Paon\, 175 chemin du 10 mai 1940\, Borre\, Nord\, 59190\, France
CATEGORIES:Accueil à la ferme
ORGANIZER;CN="Accueil Paysan":MAILTO:hautsdefrance@accueil-paysan.com
END:VEVENT
BEGIN:VEVENT
DTSTART;TZID=Europe/Paris:20260205T093000
DTEND;TZID=Europe/Paris:20260205T123000
DTSTAMP:20260421T032958
CREATED:20260128T110356Z
LAST-MODIFIED:20260128T111232Z
UID:10000307-1770283800-1770294600@envieauprojet.fr
SUMMARY:Plan de maitrise sanitaire : spécial maraichage et PAM
DESCRIPTION:Formation Plan de Maitrise Sanitaire : spécial maraîchage et PAM \nObjectifs de la formation : \n\nDécouvrir et comprendre les spécificités du plan de maitrise sanitaire en maraîchage\, le guide des bonnes pratiques d’hygiène.\nConstruire son propre PMS à partir d’un modèle vierge.\n\nPrix : Pas de contribution supplémentaire pour les porteur.euses de projet en couveuse. \nPour les autres participant.es : l’adhésion de 30 euros pour l’année vous permet d’accéder à toutes les formations proposées par A Petits PAS \nInfos et inscriptions auprès de Marc Fertin : marc.f@apetitspas.net / 03 27 67 32 89
URL:https://envieauprojet.fr/event/plan-de-maitrise-sanitaire-special-maraichage-et-pam/
LOCATION:VISIO
ATTACH;FMTTYPE=image/jpeg:https://envieauprojet.fr/wp-content/uploads/2026/01/A-PETITS-PAS_nouveau-logo_carre-e1769524860722.jpg
END:VEVENT
END:VCALENDAR