BEGIN:VCALENDAR
VERSION:2.0
PRODID:-//De l&#039;envie au projet - ECPv6.15.13//NONSGML v1.0//EN
CALSCALE:GREGORIAN
METHOD:PUBLISH
X-WR-CALNAME:De l&#039;envie au projet
X-ORIGINAL-URL:https://envieauprojet.fr
X-WR-CALDESC:Évènements pour De l&#039;envie au projet
REFRESH-INTERVAL;VALUE=DURATION:PT1H
X-Robots-Tag:noindex
X-PUBLISHED-TTL:PT1H
BEGIN:VTIMEZONE
TZID:Europe/Paris
BEGIN:DAYLIGHT
TZOFFSETFROM:+0100
TZOFFSETTO:+0200
TZNAME:CEST
DTSTART:20250330T010000
END:DAYLIGHT
BEGIN:STANDARD
TZOFFSETFROM:+0200
TZOFFSETTO:+0100
TZNAME:CET
DTSTART:20251026T010000
END:STANDARD
BEGIN:DAYLIGHT
TZOFFSETFROM:+0100
TZOFFSETTO:+0200
TZNAME:CEST
DTSTART:20260329T010000
END:DAYLIGHT
BEGIN:STANDARD
TZOFFSETFROM:+0200
TZOFFSETTO:+0100
TZNAME:CET
DTSTART:20261025T010000
END:STANDARD
BEGIN:DAYLIGHT
TZOFFSETFROM:+0100
TZOFFSETTO:+0200
TZNAME:CEST
DTSTART:20270328T010000
END:DAYLIGHT
BEGIN:STANDARD
TZOFFSETFROM:+0200
TZOFFSETTO:+0100
TZNAME:CET
DTSTART:20271031T010000
END:STANDARD
END:VTIMEZONE
BEGIN:VTIMEZONE
TZID:Europe/Helsinki
BEGIN:DAYLIGHT
TZOFFSETFROM:+0200
TZOFFSETTO:+0300
TZNAME:EEST
DTSTART:20250330T010000
END:DAYLIGHT
BEGIN:STANDARD
TZOFFSETFROM:+0300
TZOFFSETTO:+0200
TZNAME:EET
DTSTART:20251026T010000
END:STANDARD
BEGIN:DAYLIGHT
TZOFFSETFROM:+0200
TZOFFSETTO:+0300
TZNAME:EEST
DTSTART:20260329T010000
END:DAYLIGHT
BEGIN:STANDARD
TZOFFSETFROM:+0300
TZOFFSETTO:+0200
TZNAME:EET
DTSTART:20261025T010000
END:STANDARD
BEGIN:DAYLIGHT
TZOFFSETFROM:+0200
TZOFFSETTO:+0300
TZNAME:EEST
DTSTART:20270328T010000
END:DAYLIGHT
BEGIN:STANDARD
TZOFFSETFROM:+0300
TZOFFSETTO:+0200
TZNAME:EET
DTSTART:20271031T010000
END:STANDARD
END:VTIMEZONE
BEGIN:VEVENT
DTSTART;TZID=Europe/Paris:20260212T093000
DTEND;TZID=Europe/Paris:20260212T123000
DTSTAMP:20260421T033342
CREATED:20260128T110125Z
LAST-MODIFIED:20260128T111355Z
UID:10000306-1770888600-1770899400@envieauprojet.fr
SUMMARY:Plan de maitrise sanitaire : spécial labos de transformation alimentaire
DESCRIPTION:Formation Plan de maitrise sanitaire : spécial labos de transformation alimentaire \nObjectifs de la formation : \n\nDécouvrir et comprendre les spécificités du plan de maitrise sanitaire pour une activité de transformation alimentaire avec un labo\, le guide des bonnes pratiques d’hygiène.\nConstruire son propre PMS à partir d’un modèle vierge.\n\nPrix : Pas de contribution supplémentaire pour les porteur.euses de projet en couveuse. \nPour les autres participant.es : l’adhésion de 30 euros pour l’année vous permet d’accéder à toutes les formations proposées par A Petits PAS \nInfos et inscriptions auprès de Marc Fertin : marc.f@apetitspas.net / 03 27 67 32 89
URL:https://envieauprojet.fr/event/plan-de-maitrise-sanitaire-special-labos-de-transformation-alimentaire/
LOCATION:VISIO
ATTACH;FMTTYPE=image/jpeg:https://envieauprojet.fr/wp-content/uploads/2026/01/A-PETITS-PAS_nouveau-logo_carre-e1769524860722.jpg
END:VEVENT
BEGIN:VEVENT
DTSTART;TZID=Europe/Helsinki:20260212T093000
DTEND;TZID=Europe/Helsinki:20260212T170000
DTSTAMP:20260421T033342
CREATED:20251127T100059Z
LAST-MODIFIED:20251202T092909Z
UID:10000258-1770888600-1770915600@envieauprojet.fr
SUMMARY:"Entreprendre en collectif: les bases"
DESCRIPTION:Un temps d’atelier à faire pour réfléchir ensemble à ce qui se joue au sein de votre collectif\, et mettre en place des outils pour faciliter la communication et organiser le travail sereinement. \nPasser du « Je au Nous » : mettre à plat ses attentes et les attentes du collectif\, identifier les peurs. \nDécouvrir des outils pour mieux fonctionner ensemble. Connaître les dysfonctionnements et identifier les signaux pour les éviter. \nDurée : 1 jour
URL:https://envieauprojet.fr/event/entreprendre-en-collectif-les-bases/
LOCATION:Ambricourt
CATEGORIES:Accompagnement,Collectif d'entrepreneur
END:VEVENT
END:VCALENDAR