BEGIN:VCALENDAR
VERSION:2.0
PRODID:-//De l&#039;envie au projet - ECPv6.15.13//NONSGML v1.0//EN
CALSCALE:GREGORIAN
METHOD:PUBLISH
X-ORIGINAL-URL:https://envieauprojet.fr
X-WR-CALDESC:Évènements pour De l&#039;envie au projet
REFRESH-INTERVAL;VALUE=DURATION:PT1H
X-Robots-Tag:noindex
X-PUBLISHED-TTL:PT1H
BEGIN:VTIMEZONE
TZID:Europe/Helsinki
BEGIN:DAYLIGHT
TZOFFSETFROM:+0200
TZOFFSETTO:+0300
TZNAME:EEST
DTSTART:20250330T010000
END:DAYLIGHT
BEGIN:STANDARD
TZOFFSETFROM:+0300
TZOFFSETTO:+0200
TZNAME:EET
DTSTART:20251026T010000
END:STANDARD
BEGIN:DAYLIGHT
TZOFFSETFROM:+0200
TZOFFSETTO:+0300
TZNAME:EEST
DTSTART:20260329T010000
END:DAYLIGHT
BEGIN:STANDARD
TZOFFSETFROM:+0300
TZOFFSETTO:+0200
TZNAME:EET
DTSTART:20261025T010000
END:STANDARD
BEGIN:DAYLIGHT
TZOFFSETFROM:+0200
TZOFFSETTO:+0300
TZNAME:EEST
DTSTART:20270328T010000
END:DAYLIGHT
BEGIN:STANDARD
TZOFFSETFROM:+0300
TZOFFSETTO:+0200
TZNAME:EET
DTSTART:20271031T010000
END:STANDARD
END:VTIMEZONE
BEGIN:VTIMEZONE
TZID:UTC
BEGIN:STANDARD
TZOFFSETFROM:+0000
TZOFFSETTO:+0000
TZNAME:UTC
DTSTART:20250101T000000
END:STANDARD
END:VTIMEZONE
BEGIN:VTIMEZONE
TZID:Europe/Paris
BEGIN:DAYLIGHT
TZOFFSETFROM:+0100
TZOFFSETTO:+0200
TZNAME:CEST
DTSTART:20250330T010000
END:DAYLIGHT
BEGIN:STANDARD
TZOFFSETFROM:+0200
TZOFFSETTO:+0100
TZNAME:CET
DTSTART:20251026T010000
END:STANDARD
BEGIN:DAYLIGHT
TZOFFSETFROM:+0100
TZOFFSETTO:+0200
TZNAME:CEST
DTSTART:20260329T010000
END:DAYLIGHT
BEGIN:STANDARD
TZOFFSETFROM:+0200
TZOFFSETTO:+0100
TZNAME:CET
DTSTART:20261025T010000
END:STANDARD
BEGIN:DAYLIGHT
TZOFFSETFROM:+0100
TZOFFSETTO:+0200
TZNAME:CEST
DTSTART:20270328T010000
END:DAYLIGHT
BEGIN:STANDARD
TZOFFSETFROM:+0200
TZOFFSETTO:+0100
TZNAME:CET
DTSTART:20271031T010000
END:STANDARD
END:VTIMEZONE
BEGIN:VEVENT
DTSTART;VALUE=DATE:20260223
DTEND;VALUE=DATE:20260226
DTSTAMP:20260421T021052
CREATED:20251223T115303Z
LAST-MODIFIED:20260107T151621Z
UID:10000272-1771804800-1772063999@envieauprojet.fr
SUMMARY:Formations du cursus Accueil pédagogique
DESCRIPTION:Obligatoires pour les personnes souhaitant être labellisées en accueil pédagogique\n\n\nLundi 23 février 2026 :  Construire son projet d’accueil pédagogique avec Accueil Paysan\nMardi 24 février 2026 :  Construire et vivre une animation nature\nMercredi 25 février 2026 :  Mettre en chiffre son projet d’accueil pédagogique\n\nCes 3 jours de formation auront lieu dans le Cambrésis (à Saulzoir logiquement). Une autre session avec les mêmes formations sera mise en place dans les Flandres en fin d’année 2026.\n\n\n\n\nInfos : Natacha\n\n\n\n\nAccueil Paysan Hauts-de-France\nhautsdefrance@accueil-paysan.com\n06.52.13.54.10
URL:https://envieauprojet.fr/event/formations-du-cursus-accueil-pedagogique/
CATEGORIES:Accompagnement,Accueil à la ferme
ORGANIZER;CN="Accueil Paysan":MAILTO:hautsdefrance@accueil-paysan.com
END:VEVENT
BEGIN:VEVENT
DTSTART;TZID=UTC:20260224T093000
DTEND;TZID=UTC:20260224T170000
DTSTAMP:20260421T021052
CREATED:20260112T103220Z
LAST-MODIFIED:20260112T103541Z
UID:10000291-1771925400-1771952400@envieauprojet.fr
SUMMARY:Formation "Construire et vivre une animation nature"
DESCRIPTION:Accueil Paysan organise une journée de formation sur le thème « Construire et vivre une animation nature ». \nCette journée fait partie du cursus de formation initiale pour être labellisé « Accueil paysan » en accueil pédagogique. Elle permettra de : \n\nDéfinir ce qu’est une animation pédagogique\nVivre une animation nature\nAcquérir des outils et méthodes pour concevoir des animations pédagogiques adaptées au contexte\, au lieu et au public\nConstruire une animation pédagogique\n\n1 journée \nPrix : l’adhésion de 20 euros pour l’année vous permet d’accéder à toutes les formations proposées par Accueil Paysan – Formation gratuite pour les personnes déjà adhérentes d’Accueil Paysan.
URL:https://envieauprojet.fr/event/formation-construire-et-vivre-une-animation-nature/
LOCATION:Cambrésis\, France
CATEGORIES:Accueil à la ferme,Formations
ORGANIZER;CN="Accueil Paysan":MAILTO:hautsdefrance@accueil-paysan.com
END:VEVENT
BEGIN:VEVENT
DTSTART;TZID=Europe/Paris:20260224T093000
DTEND;TZID=Europe/Paris:20260225T163000
DTSTAMP:20260421T021052
CREATED:20260128T111112Z
LAST-MODIFIED:20260203T090347Z
UID:10000308-1771925400-1772037000@envieauprojet.fr
SUMMARY:Gérer les conflits dans son activité professionnelle
DESCRIPTION:Attention : formation sur 2 jours\, les 24 et 25 février – 9h30-16h30 \nQue ce soit avec les fournisseurs\, les collaborateurs\, les clients ou même sa famille\, les relations qui dépendent de la réussite de notre entreprise sont parfois sources de conflits. Nous ne sommes pas toujours préparés lorsque les tensions apparaissent et nous nous sentons souvent démunis. Alors pour mieux gérer et appréhender les conflits\, les désaccords\, cette formation permettra d’aborder le sujet de la gestion des conflits dans sa globalité. \nObjectifs de la formation : \n\nComprendre les bases de la communication\, des relations et comment se créer les conflits.\nMettre en place des outils et stratégies dès le lancement de son activité pour limiter et anticiper les conflits\nGérer ses conflits internes\, mieux se connaître et identifier son fonctionnement et ses réactions face aux agressions et conflits\nGérer les conflits et apprendre à changer sa posture\nQuand le dialogue est coupé\, quels sont mes recours ?\n\nDurant 2 jours\, nous vous proposons d’aborder de manière ludique\, la gestion des conflits par une approche mêlant théorie et Jeux de rôle. Une mise en pratique avec vos propres interrogations\, expériences et cas concrets. Nous verrons ensemble comment on peut désamorcer\, limiter les conflits avec des outils pratiques et comment nous pouvons affronter les désaccords possibles lorsqu’ils se présentent. \nIntervenante : Marie-Adeline KRZYZANIAK \nPrix : Pas de contribution supplémentaire pour les porteur.euses de projet en couveuse. \nPour les autres participant.es : l’adhésion de 30 euros pour l’année vous permet d’accéder à toutes les formations proposées par A Petits PAS \nInfos et inscriptions auprès de Laurence Selosse : laurence.s@apetitspas.net / 03 27 67 32 89 \n 
URL:https://envieauprojet.fr/event/gerer-les-tensions-clients-fournisseurs/
LOCATION:Sains du  Nord\, 7 rue du Défriché\, Sains du Nord\, 59177\, France
ATTACH;FMTTYPE=image/jpeg:https://envieauprojet.fr/wp-content/uploads/2026/01/A-PETITS-PAS_nouveau-logo_carre-e1769524860722.jpg
END:VEVENT
END:VCALENDAR