BEGIN:VCALENDAR
VERSION:2.0
PRODID:-//De l&#039;envie au projet - ECPv6.15.13//NONSGML v1.0//EN
CALSCALE:GREGORIAN
METHOD:PUBLISH
X-ORIGINAL-URL:https://envieauprojet.fr
X-WR-CALDESC:Évènements pour De l&#039;envie au projet
REFRESH-INTERVAL;VALUE=DURATION:PT1H
X-Robots-Tag:noindex
X-PUBLISHED-TTL:PT1H
BEGIN:VTIMEZONE
TZID:UTC
BEGIN:STANDARD
TZOFFSETFROM:+0000
TZOFFSETTO:+0000
TZNAME:UTC
DTSTART:20240101T000000
END:STANDARD
END:VTIMEZONE
BEGIN:VEVENT
DTSTART;TZID=UTC:20250602T093000
DTEND;TZID=UTC:20250602T123000
DTSTAMP:20260421T130707
CREATED:20250220T152006Z
LAST-MODIFIED:20251014T092200Z
UID:10000174-1748856600-1748867400@envieauprojet.fr
SUMMARY:Construire sa relation client
DESCRIPTION:Permettre aux porteurs de projet de comprendre et analyser une relation client\, d’en comprendre les enjeux et les éléments clés. Permettre aux porteurs de projet de construire leur propre stratégie en matière de relation client. Réunir les porteurs de projet pour favoriser la dynamique collective et apporter un regard croisé sur leurs activités. \nInfos et inscriptions auprès de Marc FERTIN : marc.f@apetitspas.net / 03 27 67 32 89\nPrix : L’adhésion de 30 euros pour l’année vous permet d’accéder à toutes les formations proposées par A Petits PAS
URL:https://envieauprojet.fr/event/construire-sa-relation-client-2/
LOCATION:VISIO
CATEGORIES:Formations
ATTACH;FMTTYPE=image/jpeg:https://envieauprojet.fr/wp-content/uploads/2025/02/apples-1841132_1920.jpg
END:VEVENT
BEGIN:VEVENT
DTSTART;TZID=UTC:20250602T103000
DTEND;TZID=UTC:20250602T120000
DTSTAMP:20260421T130707
CREATED:20250430T083335Z
LAST-MODIFIED:20251014T092234Z
UID:10000191-1748860200-1748865600@envieauprojet.fr
SUMMARY:Visio présentation de la formation PASS INSTALLATION APTEA
DESCRIPTION:Le dimensionnement de son projet d’installation agricole nécessite de faire des choix stratégiques du point de vue de son mode de production\, de commercialisation\, de son organisation\, de la gestion de sa future ferme en lien avec ses aspirations personnelles et les atouts et contraintes du territoire. \nS’installer dans un territoire repose aussi sur une bonne connaissance du territoire et des acteurs locaux (paysans\, fournisseurs\, futurs consommateurs\, réseaux agricoles\, réseaux associatifs …). \nPour faciliter l’acquisition des compétences nécessaires à une installation viable et vivable en Agriculture Paysanne (création d’activité ou reprise de ferme)\, l’intégration dans le territoire\, la capacité à faire des choix stratégiques pour son installation\, Initiatives Paysannes a créé le dispositif de formation : le Pass Installation APTEA. \nIl s’agit d’une formation personnalisable\, basée sur le cycle de production\, soit jusqu’à une année. Elle est déclinable à différentes filières (végétale\, animale).Elle permet à chaque candidat.e de pratiquer auprès de pairs\, comparer leurs fermes\, systèmes\, comprendre les choix faits par chacun des paysans et d’« inventer » leur propre modèle de ferme. \nUne formation basée sur : \n\nla pratique avec des pairs : en alternance sur plusieurs fermes (2 à 3 fermes qui se constituent en collectif APTEA* :. Rythme d’accueil : 1 à 2 jours/semaine sur chacune des fermes pendant toute la formation (Rythme adaptable selon la filière).\nde l’immersion courte sur des fermes complémentaires\nEnrichie de formations entrepreneuriales et techniques dispensées par Initiatives Paysannes et ses partenaires.\ndu temps pour dimensionner son projet : accompagnement individuel\, temps individuel consacré à la définition de son réseau et pour ses démarches professionnelles.\ndu temps de suivi des stages\nl’échange de pratiques paysannes\n\n(*Association pour la Pérennisation et Transmission des Emplois en Agriculture). \nLes paysans accueillants engagés en collectif APTEA s’engagent auprès d’Initiatives Paysannes à transmettre auprès du porteur de projet accueilli leurs savoirs et en toute transparence les éléments clés nécessaires à une bonne compréhension du modèle de leur ferme. \nLe coût de la formation sera défini en fonction des besoins du candidat.Des fonds de formation peuvent être mobilisés pour couvrir les coûts pédagogiques de formation.Frais de dossier : 10% du coût \nENTREES EN CONTINU \nPrésentation en VISIO les 12/05\, 23/05\, 02/06\, 17/06 et 03/07/25 de 10h30 à 12h00 \nRenseignements : n.degroote@initiatives-paysannes. 06 44 08 69 18
URL:https://envieauprojet.fr/event/visio-presentation-de-la-formation-pass-installation-aptea-3/
CATEGORIES:Accueil agricole
END:VEVENT
BEGIN:VEVENT
DTSTART;TZID=UTC:20250610T093000
DTEND;TZID=UTC:20250610T123000
DTSTAMP:20260421T130707
CREATED:20250307T171331Z
LAST-MODIFIED:20251014T092200Z
UID:10000184-1749547800-1749558600@envieauprojet.fr
SUMMARY:Améliorer la confiance en soi – se sentir légitime
DESCRIPTION:Comprendre ce qui fragilise et ce qui nourrit la confiance en soi.\nDéfinir la notion de confiance en soi.\nIdentifier ce qui permet de développer la confiance en soi.\nConstruire ma stratégie pour développer la confiance en soi en tant qu’entrepreneur.se. \ncontact : A Petits PAS laurence.s@apetitspas.net 03.27.67.32.89 \nPrix : L’adhésion de 30 euros pour l’année vous permet d’accéder à toutes les formations proposées par A Petits PAS
URL:https://envieauprojet.fr/event/ameliorer-la-confiance-en-soi-se-sentir-legitime-2/
LOCATION:Sains du  Nord\, 7 rue du Défriché\, Sains du Nord\, 59177\, France
CATEGORIES:Formations
ATTACH;FMTTYPE=image/jpeg:https://envieauprojet.fr/wp-content/uploads/2025/03/board-2433989_1280.jpg
END:VEVENT
BEGIN:VEVENT
DTSTART;TZID=UTC:20250612T080000
DTEND;TZID=UTC:20250612T120000
DTSTAMP:20260421T130707
CREATED:20250210T095641Z
LAST-MODIFIED:20251014T092228Z
UID:10000151-1749715200-1749729600@envieauprojet.fr
SUMMARY:Café de l'émergence CA62
DESCRIPTION:
URL:https://envieauprojet.fr/event/cafe-de-lemergence-ca62-3/
CATEGORIES:Accueil agricole
END:VEVENT
BEGIN:VEVENT
DTSTART;TZID=UTC:20250613T093000
DTEND;TZID=UTC:20250613T123000
DTSTAMP:20260421T130707
CREATED:20250220T153218Z
LAST-MODIFIED:20251014T092200Z
UID:10000175-1749807000-1749817800@envieauprojet.fr
SUMMARY:Sortie de couveuse : connaitre les démarches administratives
DESCRIPTION:Objectifs de la journée :\n– Préparer sa sortie de couveuse vers une immatriculation d’entreprise ou un\nretour à l’emploi\,\n– Identifier toutes les démarches à effectuer au moment de la sortie.\n– Définir un calendrier de démarches\,\n– Ne rien oublier…et avoir l’esprit tranquille ! \nInfos et inscriptions auprès de Marc FERTIN : marc.f@apetitspas.net\nPrix : une adhésion 30 euros pour l’année vous permet de suivre toutes les formations proposées par A petits PAS
URL:https://envieauprojet.fr/event/sortie-de-couveuse-connaitre-les-demarches-administratives/
LOCATION:VISIO
CATEGORIES:Formations
ATTACH;FMTTYPE=image/jpeg:https://envieauprojet.fr/wp-content/uploads/2025/02/gull-5048909_1280.jpg
END:VEVENT
BEGIN:VEVENT
DTSTART;TZID=UTC:20250617T103000
DTEND;TZID=UTC:20250617T120000
DTSTAMP:20260421T130707
CREATED:20250430T083506Z
LAST-MODIFIED:20251014T092220Z
UID:10000192-1750156200-1750161600@envieauprojet.fr
SUMMARY:Visio présentation de la formation PASS INSTALLATION APTEA
DESCRIPTION:Le dimensionnement de son projet d’installation agricole nécessite de faire des choix stratégiques du point de vue de son mode de production\, de commercialisation\, de son organisation\, de la gestion de sa future ferme en lien avec ses aspirations personnelles et les atouts et contraintes du territoire. \nS’installer dans un territoire repose aussi sur une bonne connaissance du territoire et des acteurs locaux (paysans\, fournisseurs\, futurs consommateurs\, réseaux agricoles\, réseaux associatifs …). \nPour faciliter l’acquisition des compétences nécessaires à une installation viable et vivable en Agriculture Paysanne (création d’activité ou reprise de ferme)\, l’intégration dans le territoire\, la capacité à faire des choix stratégiques pour son installation\, Initiatives Paysannes a créé le dispositif de formation : le Pass Installation APTEA. \nIl s’agit d’une formation personnalisable\, basée sur le cycle de production\, soit jusqu’à une année. Elle est déclinable à différentes filières (végétale\, animale).Elle permet à chaque candidat.e de pratiquer auprès de pairs\, comparer leurs fermes\, systèmes\, comprendre les choix faits par chacun des paysans et d’« inventer » leur propre modèle de ferme. \nUne formation basée sur : \n\nla pratique avec des pairs : en alternance sur plusieurs fermes (2 à 3 fermes qui se constituent en collectif APTEA* :. Rythme d’accueil : 1 à 2 jours/semaine sur chacune des fermes pendant toute la formation (Rythme adaptable selon la filière).\nde l’immersion courte sur des fermes complémentaires\nEnrichie de formations entrepreneuriales et techniques dispensées par Initiatives Paysannes et ses partenaires.\ndu temps pour dimensionner son projet : accompagnement individuel\, temps individuel consacré à la définition de son réseau et pour ses démarches professionnelles.\ndu temps de suivi des stages\nl’échange de pratiques paysannes\n\n(*Association pour la Pérennisation et Transmission des Emplois en Agriculture). \nLes paysans accueillants engagés en collectif APTEA s’engagent auprès d’Initiatives Paysannes à transmettre auprès du porteur de projet accueilli leurs savoirs et en toute transparence les éléments clés nécessaires à une bonne compréhension du modèle de leur ferme. \nLe coût de la formation sera défini en fonction des besoins du candidat.Des fonds de formation peuvent être mobilisés pour couvrir les coûts pédagogiques de formation.Frais de dossier : 10% du coût \nENTREES EN CONTINU \nPrésentation en VISIO les 12/05\, 23/05\, 02/06\, 17/06 et 03/07/25 de 10h30 à 12h00 \nRenseignements : n.degroote@initiatives-paysannes. 06 44 08 69 18
URL:https://envieauprojet.fr/event/visio-presentation-de-la-formation-pass-installation-aptea-4/
CATEGORIES:Accueil agricole
END:VEVENT
END:VCALENDAR