BEGIN:VCALENDAR
VERSION:2.0
PRODID:-//De l&#039;envie au projet - ECPv6.15.13//NONSGML v1.0//EN
CALSCALE:GREGORIAN
METHOD:PUBLISH
X-ORIGINAL-URL:https://envieauprojet.fr
X-WR-CALDESC:Évènements pour De l&#039;envie au projet
REFRESH-INTERVAL;VALUE=DURATION:PT1H
X-Robots-Tag:noindex
X-PUBLISHED-TTL:PT1H
BEGIN:VTIMEZONE
TZID:UTC
BEGIN:STANDARD
TZOFFSETFROM:+0000
TZOFFSETTO:+0000
TZNAME:UTC
DTSTART:20240101T000000
END:STANDARD
END:VTIMEZONE
BEGIN:VEVENT
DTSTART;TZID=UTC:20250703T103000
DTEND;TZID=UTC:20250703T120000
DTSTAMP:20260421T115427
CREATED:20250430T083740Z
LAST-MODIFIED:20251014T092216Z
UID:10000193-1751538600-1751544000@envieauprojet.fr
SUMMARY:Visio présentation de la formation PASS INSTALLATION APTEA
DESCRIPTION:Le dimensionnement de son projet d’installation agricole nécessite de faire des choix stratégiques du point de vue de son mode de production\, de commercialisation\, de son organisation\, de la gestion de sa future ferme en lien avec ses aspirations personnelles et les atouts et contraintes du territoire. \nS’installer dans un territoire repose aussi sur une bonne connaissance du territoire et des acteurs locaux (paysans\, fournisseurs\, futurs consommateurs\, réseaux agricoles\, réseaux associatifs …). \nPour faciliter l’acquisition des compétences nécessaires à une installation viable et vivable en Agriculture Paysanne (création d’activité ou reprise de ferme)\, l’intégration dans le territoire\, la capacité à faire des choix stratégiques pour son installation\, Initiatives Paysannes a créé le dispositif de formation : le Pass Installation APTEA. \nIl s’agit d’une formation personnalisable\, basée sur le cycle de production\, soit jusqu’à une année. Elle est déclinable à différentes filières (végétale\, animale).Elle permet à chaque candidat.e de pratiquer auprès de pairs\, comparer leurs fermes\, systèmes\, comprendre les choix faits par chacun des paysans et d’« inventer » leur propre modèle de ferme. \nUne formation basée sur : \n\nla pratique avec des pairs : en alternance sur plusieurs fermes (2 à 3 fermes qui se constituent en collectif APTEA* :. Rythme d’accueil : 1 à 2 jours/semaine sur chacune des fermes pendant toute la formation (Rythme adaptable selon la filière).\nde l’immersion courte sur des fermes complémentaires\nEnrichie de formations entrepreneuriales et techniques dispensées par Initiatives Paysannes et ses partenaires.\ndu temps pour dimensionner son projet : accompagnement individuel\, temps individuel consacré à la définition de son réseau et pour ses démarches professionnelles.\ndu temps de suivi des stages\nl’échange de pratiques paysannes\n\n(*Association pour la Pérennisation et Transmission des Emplois en Agriculture). \nLes paysans accueillants engagés en collectif APTEA s’engagent auprès d’Initiatives Paysannes à transmettre auprès du porteur de projet accueilli leurs savoirs et en toute transparence les éléments clés nécessaires à une bonne compréhension du modèle de leur ferme. \nLe coût de la formation sera défini en fonction des besoins du candidat.Des fonds de formation peuvent être mobilisés pour couvrir les coûts pédagogiques de formation.Frais de dossier : 10% du coût \nENTREES EN CONTINU \nPrésentation en VISIO les 12/05\, 23/05\, 02/06\, 17/06 et 03/07/25 de 10h30 à 12h00 \nRenseignements : n.degroote@initiatives-paysannes. 06 44 08 69 18
URL:https://envieauprojet.fr/event/visio-presentation-de-la-formation-pass-installation-aptea-5/
CATEGORIES:Accueil agricole
END:VEVENT
BEGIN:VEVENT
DTSTART;TZID=UTC:20250707T140000
DTEND;TZID=UTC:20250707T163000
DTSTAMP:20260421T115427
CREATED:20250619T055237Z
LAST-MODIFIED:20251014T092200Z
UID:10000194-1751896800-1751905800@envieauprojet.fr
SUMMARY:Communiquer efficacement : formation newsletter
DESCRIPTION:Objectifs de la formation :  \n>>> Comprendre les différences entre newsletter et emailing\n>>> Définir une stratégie adaptée à votre activité\n>>> Maîtriser les techniques de création de contenu engageant\n>>> Connaître les solutions adaptées aux petits entrepreneurs\n>>> Savoir analyser et optimiser vos campagnes\nBonus : Configurer WordPress pour vos newsletters\nInformations et inscriptions auprès d’Emeline : emeline.l@apetitspas.net / 03 21 41 70 07
URL:https://envieauprojet.fr/event/communiquer-efficacement-formation-newsletter/
LOCATION:VISIO
CATEGORIES:Formations
END:VEVENT
BEGIN:VEVENT
DTSTART;TZID=UTC:20250710T080000
DTEND;TZID=UTC:20250710T120000
DTSTAMP:20260421T115427
CREATED:20250210T100633Z
LAST-MODIFIED:20251014T092208Z
UID:10000156-1752134400-1752148800@envieauprojet.fr
SUMMARY:Café de l'émergence IP62
DESCRIPTION:
URL:https://envieauprojet.fr/event/cafe-de-lemergence-ip62-4/
CATEGORIES:Accueil agricole
END:VEVENT
BEGIN:VEVENT
DTSTART;TZID=UTC:20250710T140000
DTEND;TZID=UTC:20250710T160000
DTSTAMP:20260421T115427
CREATED:20250619T082608Z
LAST-MODIFIED:20251014T092200Z
UID:10000195-1752156000-1752163200@envieauprojet.fr
SUMMARY:Formation : Gestion du temps - Outils et méthodes de planification
DESCRIPTION:Entre rendez-vous\, décisions stratégiques et imprévus du quotidien\, la gestion du temps est un véritable défi pour tout entrepreneur.\nCette formation vous aide à reprendre la main sur votre agenda pour travailler plus efficacement… sans vous épuiser. \nObjectifs de la formation : \n    Mieux se connaître pour construire une organisation adaptée à son mode de fonctionnement \n    Optimiser son organisation personnelle pour gagner en clarté et en performance \n    Appliquer des principes simples de planification pour libérer du temps et se concentrer sur l’essentiel \nInfos et inscriptions auprès de Hélène DELEAU : helene.d@apetitspas.net / 03 27 67 32 89\nPrix : L’adhésion de 30 euros pour l’année vous permet d’accéder à toutes les formations proposées par A Petits PAS
URL:https://envieauprojet.fr/event/formation-gestion-du-temps-outils-et-methodes-de-planification/
LOCATION:VISIO
CATEGORIES:Formations
ATTACH;FMTTYPE=image/jpeg:https://envieauprojet.fr/wp-content/uploads/2025/06/th.jpg
END:VEVENT
END:VCALENDAR